BEGIN:VCALENDAR
METHOD:PUBLISH
PRODID:Bobolo CMS v1.15.1
VERSION:2.0
BEGIN:VTIMEZONE
TZID:W. Europe Standard Time
BEGIN:STANDARD
DTSTART:16010101T030000
TZOFFSETFROM:+0200
TZOFFSETTO:+0100
RRULE:FREQ=YEARLY;INTERVAL=1;BYDAY=-1SU;BYMONTH=10
END:STANDARD
BEGIN:DAYLIGHT
DTSTART:16010101T020000
TZOFFSETFROM:+0100
TZOFFSETTO:+0200
RRULE:FREQ=YEARLY;INTERVAL=1;BYDAY=-1SU;BYMONTH=3
END:DAYLIGHT
END:VTIMEZONE
BEGIN:VEVENT
DTSTART;TZID=W. Europe Standard Time:20250507T183000
DTEND;TZID=W. Europe Standard Time:20250507T200000
LOCATION:Online
TRANSP:OPAQUE
SEQUENCE:0
UID:BB678D3492878DD7C7AA7B269DE61BB5
DTSTAMP:20260424T040158Z
DESCRIPTION: \n\nTo join our Spontaneous Live Classes Online with Mithila go here. \n\nFor our longer daily practice programs that are teacher led courses go here.\n\nFor our one-to-one\, private sessions go here.\n\n \n\nFor our Online Free Classes go here. \n\nFor our Online Self-Study Classes and Courses go here.\n\n \n\nFor our team of teachers go here.\n\n \n\nFor more visuals on the Method go here.\n\n \n\nFor more written words on the Method go here.\n\n \n\nFor more about Mithila Kara\, the YM Director\, go here. \n\n  \n\nthe what\, how and why of the YogaMonks Method for further reading.\n\nFor an A-Z overview of the self study in myScrolls to keep scrolling at your own devise\, go here.\n\n \n\n
SUMMARY:YM Sadhana Course Year 2 Online 
PRIORITY:3
X-MICROSOFT-CDO-IMPORTANCE:1
STATUS:CONFIRMED
CLASS:PUBLIC
URL:https://yogamonks.se/index.php?special=event&id=1045
BEGIN:VALARM
ACTION:DISPLAY
DESCRIPTION:REMINDER
TRIGGER:-PT1H
END:VALARM
X-MICROSOFT-CDO-IMPORTANCE:1
END:VEVENT
END:VCALENDAR
