BEGIN:VCALENDAR
METHOD:PUBLISH
PRODID:Bobolo CMS v1.15.1
VERSION:2.0
BEGIN:VTIMEZONE
TZID:W. Europe Standard Time
BEGIN:STANDARD
DTSTART:16010101T030000
TZOFFSETFROM:+0200
TZOFFSETTO:+0100
RRULE:FREQ=YEARLY;INTERVAL=1;BYDAY=-1SU;BYMONTH=10
END:STANDARD
BEGIN:DAYLIGHT
DTSTART:16010101T020000
TZOFFSETFROM:+0100
TZOFFSETTO:+0200
RRULE:FREQ=YEARLY;INTERVAL=1;BYDAY=-1SU;BYMONTH=3
END:DAYLIGHT
END:VTIMEZONE
BEGIN:VEVENT
DTSTART;TZID=W. Europe Standard Time:20250212T120000
DTEND;TZID=W. Europe Standard Time:20250212T133000
LOCATION:Zoom Online Live
TRANSP:OPAQUE
SEQUENCE:0
UID:11E4104C410101B33DEEDC4B6B77DB7E
DTSTAMP:20260419T144730Z
DESCRIPTION: 
SUMMARY:Channelled Meditation
PRIORITY:3
X-MICROSOFT-CDO-IMPORTANCE:1
STATUS:CONFIRMED
CLASS:PUBLIC
URL:https://yogamonks.se/index.php?special=event&id=1061
BEGIN:VALARM
ACTION:DISPLAY
DESCRIPTION:REMINDER
TRIGGER:-PT1H
END:VALARM
X-MICROSOFT-CDO-IMPORTANCE:1
END:VEVENT
END:VCALENDAR
