BEGIN:VCALENDAR
METHOD:PUBLISH
PRODID:Bobolo CMS v1.15.1
VERSION:2.0
BEGIN:VTIMEZONE
TZID:W. Europe Standard Time
BEGIN:STANDARD
DTSTART:16010101T030000
TZOFFSETFROM:+0200
TZOFFSETTO:+0100
RRULE:FREQ=YEARLY;INTERVAL=1;BYDAY=-1SU;BYMONTH=10
END:STANDARD
BEGIN:DAYLIGHT
DTSTART:16010101T020000
TZOFFSETFROM:+0100
TZOFFSETTO:+0200
RRULE:FREQ=YEARLY;INTERVAL=1;BYDAY=-1SU;BYMONTH=3
END:DAYLIGHT
END:VTIMEZONE
BEGIN:VEVENT
DTSTART;TZID=W. Europe Standard Time:20250423T120000
DTEND;TZID=W. Europe Standard Time:20250423T131500
LOCATION:Online Zoom
TRANSP:OPAQUE
SEQUENCE:0
UID:C975ABC322E7B58D5E4ADD33EABCA0C1
DTSTAMP:20260422T111123Z
DESCRIPTION:E-mail info@yogamonks.se or text Mithila to book your spot.\n\n \n\nBooking\, Payments and Cancellation Policy\n\nPre-booking of at least 24 hours prior is required and can be done anytime before the date. A spontaneous SMS list reminder will go out the day before of the class. If you are not on the spontaneous list right now\, you might want to add yourself to receive these reminders. You can also just book via email or text by following the available schedule here.180 SEK per class. All payments handled after the class\, invoiced on a monthly / bi-monthly basis.If you join or buy the video of more than 4 of Mithila's scheduled classes on any given month your payments will be capped at 4 classes. A total of 720 SEK per month as a maximum monthly payment to attend 4 or more classes depending on how it unfolds. All payments handled via invoice after a month of classes are over. \n\nClass content:\n\nBased on the illustrious YM Method of Yoga and Movement\, we will explore hatha and vinaysa yoga\, breathwork and meditations from Yogic Teachings.Each class is stand alone. You can book each class individually. I will decide the content closer to date and adjust to who is in class that day and what your preference for practice is on the day as much as possible. 
SUMMARY:Yoga with Mithila Open Online Class
PRIORITY:3
X-MICROSOFT-CDO-IMPORTANCE:1
STATUS:CONFIRMED
CLASS:PUBLIC
URL:https://yogamonks.se/index.php?special=event&id=1085
BEGIN:VALARM
ACTION:DISPLAY
DESCRIPTION:REMINDER
TRIGGER:-PT1H
END:VALARM
X-MICROSOFT-CDO-IMPORTANCE:1
END:VEVENT
END:VCALENDAR
