BEGIN:VCALENDAR
METHOD:PUBLISH
PRODID:Bobolo CMS v1.15.1
VERSION:2.0
BEGIN:VTIMEZONE
TZID:W. Europe Standard Time
BEGIN:STANDARD
DTSTART:16010101T030000
TZOFFSETFROM:+0200
TZOFFSETTO:+0100
RRULE:FREQ=YEARLY;INTERVAL=1;BYDAY=-1SU;BYMONTH=10
END:STANDARD
BEGIN:DAYLIGHT
DTSTART:16010101T020000
TZOFFSETFROM:+0100
TZOFFSETTO:+0200
RRULE:FREQ=YEARLY;INTERVAL=1;BYDAY=-1SU;BYMONTH=3
END:DAYLIGHT
END:VTIMEZONE
BEGIN:VEVENT
DTSTART;TZID=W. Europe Standard Time:20220911T180000
DTEND;TZID=W. Europe Standard Time:20220911T200000
LOCATION:Zoom Online Live
TRANSP:OPAQUE
SEQUENCE:0
UID:5C8DD9EEE1EDA534F65EB5A073E36FB3
DTSTAMP:20260425T201251Z
DESCRIPTION:  \n\nMithila will enter the Trance Mission State to receive the messages\, guidance\, assistance and meditations from the Galactic Guides for us to transit the Full Moon with grace and grounding. \n\nRegister for this event via email to info@yogamonks.se. Thank you.\n\n ABOUT\n\n''I have been asked to host Trance Mission Gatherings on every Full and New Moon during 2022 and on each one we will be recipients of the awareness of those portals and what we can intuit through them. I await further details and guidance about this date and will update this event and the  Channeled Messages page as soon as it has arrived. You can also experience many videos and channeled messages there from previous actvities\, much of it is for free.\n\n Everyone who registers will receive further updates as I receive them prior to our group gathering. Welcome!'' For whom? As always everyone is respectfully welcome. \n\nThese events are multi-disciplinary\, non-denominational\, Multi-Dimensional and Energy Consciousness upgrades. \n\n \n\n GENERAL INFO:\n\nENERGY MEDICINE\n\nI am not only a channel for telepathic spoken messages and communication.\n\nI channel actual high energy vibrations into the space that we open for the session (whether you are there live or on zoom this is felt and experienced) and in that way I act as a conduit for quantum healing\, specific higher dimensional vibrations\, Light code activations etc...through sound\, Light Language and other Energy Meditations.\n\nThis is felt by all in the session in different ways suitable to each individuals needed experience and capacity. \n\nI will be channeling what is needed for the group that has gathered\, myself\, and for the place we are in within the new Timeline of 5D. For more details on the 5D Earth Upgrade Project read this.\n\nTherefore each event will be unique. \n\nThey will contain elements of Light Language\, Breath\, Voice and Mudra Energy Activation and Integration Processes\, they will contain messages from the Higher Dimensions and Galactic Guides (such as Angelic Realm\, Animal Spirit Realms\, Pleiadian\, Arcturian and other Alien/Extra Terrestrial Intelligence)\, prayers from all world religions and spiritual traditions and more.\n\nActivation of new Light Codes that are entering Earth vibration at the time but also activating dormant Codes in us humans as we who are alive at this time are meant to experience this extraordinary 5D vibe transformation in our lifetime. \n\nThe integracion and assistance to assimilate the new paradigm\, new tigmline (timeline) and energy vibrations to our human experience.\n\n  \n\nRegistration terms\n\nthe event will take place whether it is 1\, 10 or 100 people who are presentthe event will only be cancelled if Mithila is for any reason unable to hold the spacethe event requires your registration using the form aboveif you have not received Zoom confirmation details at least 24 hours prior to the event please e-mail us if you need to cancel\, let Mithila know\, however\, there is NO cancellation fee OR cancellation timeframe for the Zoom Eventsarrive on time for the event\, fresh and in your white or bright\, colourful clothes\, that are comfortable to move\, sit and lay down and relax in\, bring a yoga mat and meditation blanket if you wish to lie down or sit on the floorfor Zoom\, have a space that is clean\, a comfortable chair to relax in as well as floor space in case you want to sit in meditation during the event or lie down warm and comfortablehave plenty of water at hand\, and some snacks in case you need to ground the energytry and be uninterrupted\, and you can leave for the bathroom etc... as you wish but get back in the zone as soon as you can\, and you can also leave the event entirely if you need to\, just send us a message after so we know you are wellPRIVACY: it is very important that all participants feel their privacy is protected. NO recording of the event is permitted\, NO video sharing\, ALL Social media and other devices and apps not needed for Zoom should be shut off during the whole event\, NO SHARING of video material or pictures of the participants during or after the event. If you wish to share pictures of yourself attending the event after the event\, that is ofcourse up to you. :-DMithila may record the event. If the recording is of the Zoom video where you are visible\, you can rest assured that this will NOT be publicised in any way. It will be ONLY for Mithila's internal records. If the video is recorded for public then it will ONLY be Mithila on video separately from the LIVE or Zoom event.DRUGS: NO drugs or other intoxicants are used prior to or during this event by the hostess or any particpants. This is a DRUG FREE ZONE.Set aside 2-3 hourswe welcome your feedback after the event\, to share with others who might be thinking of joining next time\, and we appreciate your help in spreading the word of the Upgrade Project with those who you feel are drawn to it or need it in their lives in someway. \n\nENERGY EXCHANGE\n\nThe exchange asked for is € 44 / 440 SEK per Person. Newsletter Readers Rewards and YM Crew : €33 / 330 SEKAsk us: we have great discount packages for repeat guests that reduce your ticket price to less than € 33 per eventIf you need a concession simply offer what you can. Concessions available for low-income students\, pensioners or unemployed. If you wish to offer more than our suggested exchange\, we welcome your donation.You can be multiple particpants in one household (example on ZOOM)  joining the event at the same time and the energy exchange requested is per person participating.Your children under age 18 may join for free\, and under parental discretion and advice.Remember we will not cancel even if it is just 1 person\, YOU\, attending.All payments are to be made in the week AFTER the event.All payments are made following this information. If you need a receipt/invoice let Mithila know BEFORE you pay. THANK YOU.\n\n \n\nREGISTERING FOR THIS EVENT IMPLIES THAT YOU HAVE UNDERSTOOD and AGREE to ALL OF THE ABOVE AND ALSO AGREE TO GENERAL TERMS OF PARTICIPATION FOR MITHILA'S YOGA EVENTS\, use of website etc... AS WRITTEN HERE regards to Health and Safety/ Privacy/and more.\n\n \n\n \n\nOther similar eventsEvery month there are Healing Circles (€11)\, Galactic Parties (€110)\, and Prayer Circles (free) for expanding your consciousness\, raising your vibration\, invoking your holistic health and healing capabilities and invoking your own multi-dimensionality and all the beautiful benefits that come with it for every day life. See All Events.\n\nWe have great package prices for all our clients who wish to attend these events regularly. Contact us for details.\n\n \n\nSovereign SessionsOne-to-One Sessions with Mithila Kara. Read more here.\n\n \n\nYoga\, Hatha Yoga and YogaMonks MethodFor Yoga\, Fitness etc... with Mithila join the Spontaneous Class SMS List or read more here.\n\n \n\n \n\n
SUMMARY:Full Moon Meditation
PRIORITY:3
X-MICROSOFT-CDO-IMPORTANCE:1
STATUS:CONFIRMED
CLASS:PUBLIC
URL:https://yogamonks.se/index.php?special=event&id=719
BEGIN:VALARM
ACTION:DISPLAY
DESCRIPTION:REMINDER
TRIGGER:-PT1H
END:VALARM
X-MICROSOFT-CDO-IMPORTANCE:1
END:VEVENT
END:VCALENDAR
